BEGIN:VCALENDAR
VERSION:2.0
PRODID:-//Apogee Corporation - ECPv6.15.20//NONSGML v1.0//EN
CALSCALE:GREGORIAN
METHOD:PUBLISH
X-WR-CALNAME:Apogee Corporation
X-ORIGINAL-URL:https://apogeecorp.je
X-WR-CALDESC:Events for Apogee Corporation
REFRESH-INTERVAL;VALUE=DURATION:PT1H
X-Robots-Tag:noindex
X-PUBLISHED-TTL:PT1H
BEGIN:VTIMEZONE
TZID:Europe/London
BEGIN:DAYLIGHT
TZOFFSETFROM:+0000
TZOFFSETTO:+0100
TZNAME:BST
DTSTART:20250330T010000
END:DAYLIGHT
BEGIN:STANDARD
TZOFFSETFROM:+0100
TZOFFSETTO:+0000
TZNAME:GMT
DTSTART:20251026T010000
END:STANDARD
BEGIN:DAYLIGHT
TZOFFSETFROM:+0000
TZOFFSETTO:+0100
TZNAME:BST
DTSTART:20260329T010000
END:DAYLIGHT
BEGIN:STANDARD
TZOFFSETFROM:+0100
TZOFFSETTO:+0000
TZNAME:GMT
DTSTART:20261025T010000
END:STANDARD
BEGIN:DAYLIGHT
TZOFFSETFROM:+0000
TZOFFSETTO:+0100
TZNAME:BST
DTSTART:20270328T010000
END:DAYLIGHT
BEGIN:STANDARD
TZOFFSETFROM:+0100
TZOFFSETTO:+0000
TZNAME:GMT
DTSTART:20271031T010000
END:STANDARD
END:VTIMEZONE
BEGIN:VEVENT
DTSTART;VALUE=DATE:20260513
DTEND;VALUE=DATE:20260514
DTSTAMP:20260423T225836
CREATED:20260303T144323Z
LAST-MODIFIED:20260303T144440Z
UID:27667-1778630400-1778716799@apogeecorp.je
SUMMARY:Accelerate Your Innovation
DESCRIPTION:Our 5th Year of Impact: The Premier Workplace Innovation Event Returns on Wednesday 13th May 2026. \nDiscover exclusive\, future-focused perspectives on the evolving world of work. Elevate the experience with a thrilling Mercedes-AMG drive that brings innovation to life in a whole new way. \nClick here to learn more \nRegister Online
URL:https://apogeecorp.je/event/accelerate-your-innovation/
LOCATION:Mercedes-Benz World\, Brooklands Drive\, Weybridge\, KT13 0SL
ATTACH;FMTTYPE=image/jpeg:https://apogeecorp.je/wp-content/uploads/2024/03/accellerate-your-innovation-lap-3-background-car-track-rain.jpg
END:VEVENT
END:VCALENDAR